BEGIN:VCALENDAR
VERSION:2.0
PRODID:-//Kino Tuškanac//Filmski programi//HR
BEGIN:VEVENT
UID:40ae0005870d9f7096bd1f498dbfc6d6@kinotuskanac.hr
DTSTAMP:20260424T052059Z
DTSTART:20210604T210000
DTEND:20210604T230000
SUMMARY:Johnny O'Clock
LOCATION:Kino Tuškanac
DESCRIPTION:SAD, 1947 R: Robert Rossen
END:VEVENT
END:VCALENDAR