BEGIN:VCALENDAR
VERSION:2.0
PRODID:-//Kino Tuškanac//Filmski programi//HR
BEGIN:VEVENT
UID:5a5ae0722f116da082cabcdf1d78d565@kinotuskanac.hr
DTSTAMP:20260425T132249Z
DTSTART:20210521T170000
DTEND:20210521T190000
SUMMARY:Premijera: Drežnica na filmu
LOCATION:Kino Tuškanac
DESCRIPTION:
END:VEVENT
END:VCALENDAR