BEGIN:VCALENDAR
VERSION:2.0
PRODID:-//Kino Tuškanac//Filmski programi//HR
BEGIN:VEVENT
UID:bcad10179ce819734351b4b9ab6f535f@kinotuskanac.hr
DTSTAMP:20260422T070944Z
DTSTART:20051219T190000
DTEND:20051219T210000
SUMMARY:Intimnost
LOCATION:Kino Tuškanac
DESCRIPTION:Intimacy, 2001 R: Patrice Chéreau
END:VEVENT
END:VCALENDAR