BEGIN:VCALENDAR
VERSION:2.0
PRODID:-//Kino Tuškanac//Filmski programi//HR
BEGIN:VEVENT
UID:85512437ca048f0bcfe7808e1d7787ad@kinotuskanac.hr
DTSTAMP:20260424T153414Z
DTSTART:20210717T210000
DTEND:20210717T230000
SUMMARY:Muževi
LOCATION:Kino Tuškanac
DESCRIPTION:Husbands, SAD, 1970 R: John Cassavetes
END:VEVENT
END:VCALENDAR