BEGIN:VCALENDAR
VERSION:2.0
PRODID:-//Kino Tuškanac//Filmski programi//HR
BEGIN:VEVENT
UID:ce8d5582881d7d1fe6b06777802f2587@kinotuskanac.hr
DTSTAMP:20260422T011444Z
DTSTART:20210722T210000
DTEND:20210722T230000
SUMMARY:Oslobađanje
LOCATION:Kino Tuškanac
DESCRIPTION:Deliverance, SAD, 1972 R: John Boorman
END:VEVENT
END:VCALENDAR