BEGIN:VCALENDAR
VERSION:2.0
PRODID:-//Kino Tuškanac//Filmski programi//HR
BEGIN:VEVENT
UID:ba91e6f683b2ccfe14a1da3c7b936964@kinotuskanac.hr
DTSTAMP:20260420T134504Z
DTSTART:20210723T210000
DTEND:20210723T230000
SUMMARY:Bliski susreti treće vrste
LOCATION:Kino Tuškanac
DESCRIPTION:Close Encounters of the Third Kind, SAD, UK, 1977 R: Steven Spielberg
END:VEVENT
END:VCALENDAR