BEGIN:VCALENDAR
VERSION:2.0
PRODID:-//Kino Tuškanac//Filmski programi//HR
BEGIN:VEVENT
UID:73a52cc78a650183a11b19d4e273127b@kinotuskanac.hr
DTSTAMP:20260424T153303Z
DTSTART:20210729T210000
DTEND:20210729T230000
SUMMARY:Petulia
LOCATION:Kino Tuškanac
DESCRIPTION:UK, SAD, 1968 R: Richard Lester
END:VEVENT
END:VCALENDAR