BEGIN:VCALENDAR
VERSION:2.0
PRODID:-//Kino Tuškanac//Filmski programi//HR
BEGIN:VEVENT
UID:475655fe1d2a93702fc05a6a5b9ca178@kinotuskanac.hr
DTSTAMP:20260421T184128Z
DTSTART:20210901T190000
DTEND:20210901T210000
SUMMARY:Američka noć
LOCATION:Kino Tuškanac
DESCRIPTION:La nuit américaine, Francuska, Italija, 1973 R: François Truffaut
END:VEVENT
END:VCALENDAR