BEGIN:VCALENDAR
VERSION:2.0
PRODID:-//Kino Tuškanac//Filmski programi//HR
BEGIN:VEVENT
UID:3cdf925dc7e2b8467154da3445e78418@kinotuskanac.hr
DTSTAMP:20260421T185017Z
DTSTART:20210906T210000
DTEND:20210906T230000
SUMMARY:Sirena s Mississippija
LOCATION:Kino Tuškanac
DESCRIPTION:La sirène du Mississipi, Francuska, Italija, 1969 R: François Truffaut
END:VEVENT
END:VCALENDAR