BEGIN:VCALENDAR
VERSION:2.0
PRODID:-//Kino Tuškanac//Filmski programi//HR
BEGIN:VEVENT
UID:ae657271f6af80d0582def993a8f5356@kinotuskanac.hr
DTSTAMP:20260421T185011Z
DTSTART:20210907T190000
DTEND:20210907T210000
SUMMARY:Zajednički stol i postelja
LOCATION:Kino Tuškanac
DESCRIPTION:Domicile conjugal, Francuska, Italija, 1970 R: François Truffaut
END:VEVENT
END:VCALENDAR