BEGIN:VCALENDAR
VERSION:2.0
PRODID:-//Kino Tuškanac//Filmski programi//HR
BEGIN:VEVENT
UID:3be81f47df3e98a99af60154c834ac38@kinotuskanac.hr
DTSTAMP:20260419T141948Z
DTSTART:20210908T190000
DTEND:20210908T210000
SUMMARY:Džeparac
LOCATION:Kino Tuškanac
DESCRIPTION:L’argent de poche, Francuska, 1976 R: François Truffaut
END:VEVENT
END:VCALENDAR