BEGIN:VCALENDAR
VERSION:2.0
PRODID:-//Kino Tuškanac//Filmski programi//HR
BEGIN:VEVENT
UID:5ec9e108cf0bc85520a3a429afb6286c@kinotuskanac.hr
DTSTAMP:20260422T105156Z
DTSTART:20210910T210000
DTEND:20210910T230000
SUMMARY:Posljednji metro
LOCATION:Kino Tuškanac
DESCRIPTION:Le dernier métro, Francuska, 1980 R: François Truffaut
END:VEVENT
END:VCALENDAR