BEGIN:VCALENDAR
VERSION:2.0
PRODID:-//Kino Tuškanac//Filmski programi//HR
BEGIN:VEVENT
UID:67754b1dce7f9deae5eaa94c5301fd44@kinotuskanac.hr
DTSTAMP:20260421T093530Z
DTSTART:20210927T190000
DTEND:20210927T210000
SUMMARY:Gastarbeiter
LOCATION:Kino Tuškanac
DESCRIPTION:Hrvatska, 1977 R: Bogdan Žižić
END:VEVENT
END:VCALENDAR