BEGIN:VCALENDAR
VERSION:2.0
PRODID:-//Kino Tuškanac//Filmski programi//HR
BEGIN:VEVENT
UID:92d86f523b12c3ff5a407bd79c49d07b@kinotuskanac.hr
DTSTAMP:20260421T092900Z
DTSTART:20210929T190000
DTEND:20210929T210000
SUMMARY:Madeleine, mon amour!
LOCATION:Kino Tuškanac
DESCRIPTION:Hrvatska, 1971 R: Bogdan Žižić
END:VEVENT
END:VCALENDAR