BEGIN:VCALENDAR
VERSION:2.0
PRODID:-//Kino Tuškanac//Filmski programi//HR
BEGIN:VEVENT
UID:83fa780440be72934ebd6ac7bfa70a7f@kinotuskanac.hr
DTSTAMP:20260423T175533Z
DTSTART:20211006T173000
DTEND:20211006T193000
SUMMARY:Caricaturana
LOCATION:Kino Tuškanac
DESCRIPTION:Rumunjska, 2021 R: Radu Jude
END:VEVENT
END:VCALENDAR