BEGIN:VCALENDAR
VERSION:2.0
PRODID:-//Kino Tuškanac//Filmski programi//HR
BEGIN:VEVENT
UID:d41e8bb0ff8ffeb24cf523540b932846@kinotuskanac.hr
DTSTAMP:20260421T093217Z
DTSTART:20211008T211500
DTEND:20211008T231500
SUMMARY:Kutija uspomena
LOCATION:Kino Tuškanac
DESCRIPTION:Memory Box, Francuska, Libanon, Kanada, Katar, 2021 R: Joana Hadjithomas
END:VEVENT
END:VCALENDAR