BEGIN:VCALENDAR
VERSION:2.0
PRODID:-//Kino Tuškanac//Filmski programi//HR
BEGIN:VEVENT
UID:a5e5e548e74949fa65b6a2373ce5a36f@kinotuskanac.hr
DTSTAMP:20260421T080337Z
DTSTART:20211009T170000
DTEND:20211009T190000
SUMMARY:Futura
LOCATION:Kino Tuškanac
DESCRIPTION:Italija, 2021 R: Pietro Marcello, Francesco Munzi, Alice Rohrwacher
END:VEVENT
END:VCALENDAR