BEGIN:VCALENDAR
VERSION:2.0
PRODID:-//Kino Tuškanac//Filmski programi//HR
BEGIN:VEVENT
UID:91523005dbda4dd0de89e320549c1b96@kinotuskanac.hr
DTSTAMP:20260421T092719Z
DTSTART:20211009T210000
DTEND:20211009T230000
SUMMARY:Crvena raketa
LOCATION:Kino Tuškanac
DESCRIPTION:Red Rocket, SAD, 2021 R: Sean Baker
END:VEVENT
END:VCALENDAR