BEGIN:VCALENDAR
VERSION:2.0
PRODID:-//Kino Tuškanac//Filmski programi//HR
BEGIN:VEVENT
UID:b34f2ab38ff7cebd09ad17be5020c3de@kinotuskanac.hr
DTSTAMP:20260425T173740Z
DTSTART:20051121T200000
DTEND:20051121T220000
SUMMARY:Go Home
LOCATION:Kino Tuškanac
DESCRIPTION:2001 R: Li Chensheng
END:VEVENT
END:VCALENDAR