BEGIN:VCALENDAR
VERSION:2.0
PRODID:-//Kino Tuškanac//Filmski programi//HR
BEGIN:VEVENT
UID:f63b5cd836473882e161ea5f2551be9a@kinotuskanac.hr
DTSTAMP:20260421T142422Z
DTSTART:20211019T210000
DTEND:20211019T230000
SUMMARY:Samo s tvojom partnericom
LOCATION:Kino Tuškanac
DESCRIPTION:Sólo con tu pareja, Meksiko, 1991 R: Alfonso Cuarón
END:VEVENT
END:VCALENDAR