BEGIN:VCALENDAR
VERSION:2.0
PRODID:-//Kino Tuškanac//Filmski programi//HR
BEGIN:VEVENT
UID:a08c3443cefae42f60e58a8ad61676e1@kinotuskanac.hr
DTSTAMP:20260421T141534Z
DTSTART:20211020T210000
DTEND:20211020T230000
SUMMARY:Velika iščekivanja
LOCATION:Kino Tuškanac
DESCRIPTION:Great Expectations, SAD, 1998 R: Alfonso Cuarón
END:VEVENT
END:VCALENDAR