BEGIN:VCALENDAR
VERSION:2.0
PRODID:-//Kino Tuškanac//Filmski programi//HR
BEGIN:VEVENT
UID:5f1dddbd94154db4b1a228399c1d898f@kinotuskanac.hr
DTSTAMP:20260421T024327Z
DTSTART:20211112T210000
DTEND:20211112T230000
SUMMARY:Pi
LOCATION:Kino Tuškanac
DESCRIPTION:SAD, 1998 R: Darren Aronofsky
END:VEVENT
END:VCALENDAR