BEGIN:VCALENDAR
VERSION:2.0
PRODID:-//Kino Tuškanac//Filmski programi//HR
BEGIN:VEVENT
UID:c519c24db06ae8dd57cd7363dc0d332c@kinotuskanac.hr
DTSTAMP:20260419T205831Z
DTSTART:20211107T190000
DTEND:20211107T210000
SUMMARY:Peti
LOCATION:Kino Tuškanac
DESCRIPTION:Hrvatska, 1964 R: Pavao Štalter
END:VEVENT
END:VCALENDAR