BEGIN:VCALENDAR
VERSION:2.0
PRODID:-//Kino Tuškanac//Filmski programi//HR
BEGIN:VEVENT
UID:6385e209ff7b1ce645ffc67fa7b98cdb@kinotuskanac.hr
DTSTAMP:20260419T225348Z
DTSTART:20211107T190000
DTEND:20211107T210000
SUMMARY:Maska crvene smrti
LOCATION:Kino Tuškanac
DESCRIPTION:Hrvatska, SAD, 1969 R: Pavao Štalter, Branko Ranitović
END:VEVENT
END:VCALENDAR