BEGIN:VCALENDAR
VERSION:2.0
PRODID:-//Kino Tuškanac//Filmski programi//HR
BEGIN:VEVENT
UID:7baf4187cfc0ee893a62c3d8960aaaf1@kinotuskanac.hr
DTSTAMP:20260425T173959Z
DTSTART:20051123T170000
DTEND:20051123T190000
SUMMARY:Go Home
LOCATION:Kino Tuškanac
DESCRIPTION:2001 R: Li Chensheng
END:VEVENT
END:VCALENDAR