BEGIN:VCALENDAR
VERSION:2.0
PRODID:-//Kino Tuškanac//Filmski programi//HR
BEGIN:VEVENT
UID:7972354b693eb49cbd8cc29748c3b6b2@kinotuskanac.hr
DTSTAMP:20260419T224801Z
DTSTART:20211107T190000
DTEND:20211107T210000
SUMMARY:Mačka
LOCATION:Kino Tuškanac
DESCRIPTION:Hrvatska, Italija, 1971 R: Zlatko Bourek
END:VEVENT
END:VCALENDAR