BEGIN:VCALENDAR
VERSION:2.0
PRODID:-//Kino Tuškanac//Filmski programi//HR
BEGIN:VEVENT
UID:bf79035692fac5262775fcfc2439bbff@kinotuskanac.hr
DTSTAMP:20260419T224708Z
DTSTART:20211107T190000
DTEND:20211107T210000
SUMMARY:Konj
LOCATION:Kino Tuškanac
DESCRIPTION:Hrvatska, 1972 R: Pavao Štalter
END:VEVENT
END:VCALENDAR