BEGIN:VCALENDAR
VERSION:2.0
PRODID:-//Kino Tuškanac//Filmski programi//HR
BEGIN:VEVENT
UID:8ae4a6775a41a6bbf1ddd6fc1d8ad128@kinotuskanac.hr
DTSTAMP:20260420T114849Z
DTSTART:20211107T190000
DTEND:20211107T210000
SUMMARY:Sedam plamenčića
LOCATION:Kino Tuškanac
DESCRIPTION:Hrvatska, 1975 R: Pavao Štalter
END:VEVENT
END:VCALENDAR