BEGIN:VCALENDAR
VERSION:2.0
PRODID:-//Kino Tuškanac//Filmski programi//HR
BEGIN:VEVENT
UID:ad266d95ab29903cfd789060ed39d63a@kinotuskanac.hr
DTSTAMP:20260420T032127Z
DTSTART:20211107T190000
DTEND:20211107T210000
SUMMARY:Posljednja stanica
LOCATION:Kino Tuškanac
DESCRIPTION:Hrvatska, 1988 R: Pavao Štalter
END:VEVENT
END:VCALENDAR