BEGIN:VCALENDAR
VERSION:2.0
PRODID:-//Kino Tuškanac//Filmski programi//HR
BEGIN:VEVENT
UID:c945e606124d2c69e9c8d753e70ba206@kinotuskanac.hr
DTSTAMP:20260420T023537Z
DTSTART:20060201T190000
DTEND:20060201T210000
SUMMARY:Ljubavni glasnik
LOCATION:Kino Tuškanac
DESCRIPTION:The Go-Between, 1970 R: Joseph Losey
END:VEVENT
END:VCALENDAR