BEGIN:VCALENDAR
VERSION:2.0
PRODID:-//Kino Tuškanac//Filmski programi//HR
BEGIN:VEVENT
UID:90b79c66e71fb7549f883483303476e8@kinotuskanac.hr
DTSTAMP:20260419T224734Z
DTSTART:20211107T190000
DTEND:20211107T210000
SUMMARY:Wiener Blut
LOCATION:Kino Tuškanac
DESCRIPTION:Hrvatska, 2014 R: Pavao Štalter, Zlatko Bourek
END:VEVENT
END:VCALENDAR