BEGIN:VCALENDAR
VERSION:2.0
PRODID:-//Kino Tuškanac//Filmski programi//HR
BEGIN:VEVENT
UID:2b1d0166313ed5a767227178e227f059@kinotuskanac.hr
DTSTAMP:20260421T001302Z
DTSTART:20211122T190000
DTEND:20211122T210000
SUMMARY:Quo vadis, Aida?
LOCATION:Kino Tuškanac
DESCRIPTION:BiH, Austrija, Rumunjska, Nizozemska, Njemačka, Poljska, Francuska, Turska, Norveška, 2020 R: Jasmila Žbanić
END:VEVENT
END:VCALENDAR