BEGIN:VCALENDAR
VERSION:2.0
PRODID:-//Kino Tuškanac//Filmski programi//HR
BEGIN:VEVENT
UID:72b2c84790df13bcdd973e4b0a06e66c@kinotuskanac.hr
DTSTAMP:20260421T093223Z
DTSTART:20211116T170000
DTEND:20211116T190000
SUMMARY:Sestre Macaluso
LOCATION:Kino Tuškanac
DESCRIPTION:Le sorelle Macaluso, Italija, 2020 R: Emma Dante
END:VEVENT
END:VCALENDAR