BEGIN:VCALENDAR
VERSION:2.0
PRODID:-//Kino Tuškanac//Filmski programi//HR
BEGIN:VEVENT
UID:dc563d634fd2eb946093b3e7d191ab49@kinotuskanac.hr
DTSTAMP:20260423T113424Z
DTSTART:20211116T193000
DTEND:20211116T213000
SUMMARY:Baksuzno bubanje ili bezumni pornić
LOCATION:Kino Tuškanac
DESCRIPTION:Babardeală cu bucluc sau porno balamuc, Rumunjska, Luksemburg, Češka, Hrvatska, 2021 R: Radu Jude
END:VEVENT
END:VCALENDAR