BEGIN:VCALENDAR
VERSION:2.0
PRODID:-//Kino Tuškanac//Filmski programi//HR
BEGIN:VEVENT
UID:bfe116eb3a2e15ca73d0841232130ffe@kinotuskanac.hr
DTSTAMP:20260423T135005Z
DTSTART:20211118T220000
DTEND:20211119T000000
SUMMARY:Školski odmor
LOCATION:Kino Tuškanac
DESCRIPTION:Szünet, Mađarska, 2021 R: Levente Kölcsey
END:VEVENT
END:VCALENDAR