BEGIN:VCALENDAR
VERSION:2.0
PRODID:-//Kino Tuškanac//Filmski programi//HR
BEGIN:VEVENT
UID:420ea1a4ba78328303276b0372759512@kinotuskanac.hr
DTSTAMP:20260421T092703Z
DTSTART:20060323T190000
DTEND:20060323T210000
SUMMARY:Ime ruže
LOCATION:Kino Tuškanac
DESCRIPTION:The Name of the Rose, Italija, Zapadna Njemačka, Francuska, 1986 | Mjesto prikazivanja filma: Kulturno informativni centar KIC (Preradovićeva ul. 5) R: Jean-Jacques Annaud
END:VEVENT
END:VCALENDAR