BEGIN:VCALENDAR
VERSION:2.0
PRODID:-//Kino Tuškanac//Filmski programi//HR
BEGIN:VEVENT
UID:946b65a559503be302ac0d51a0b6506b@kinotuskanac.hr
DTSTAMP:20260421T092850Z
DTSTART:20211121T220000
DTEND:20211122T000000
SUMMARY:Sestre Macaluso
LOCATION:Kino Tuškanac
DESCRIPTION:Le sorelle Macaluso, Italija, 2020 R: Emma Dante
END:VEVENT
END:VCALENDAR