BEGIN:VCALENDAR
VERSION:2.0
PRODID:-//Kino Tuškanac//Filmski programi//HR
BEGIN:VEVENT
UID:b82807b62a3408ed3c18091efd64bac0@kinotuskanac.hr
DTSTAMP:20260421T153057Z
DTSTART:20211214T183000
DTEND:20211214T203000
SUMMARY:Licem u lice
LOCATION:Kino Tuškanac
DESCRIPTION:Hrvatska, Jugoslavija, 1963 R: Branko Bauer
END:VEVENT
END:VCALENDAR