BEGIN:VCALENDAR
VERSION:2.0
PRODID:-//Kino Tuškanac//Filmski programi//HR
BEGIN:VEVENT
UID:4bc776d0d6b7f6951581143ed6211f01@kinotuskanac.hr
DTSTAMP:20260421T092852Z
DTSTART:20211207T213000
DTEND:20211207T233000
SUMMARY:Socijalna higijena
LOCATION:Kino Tuškanac
DESCRIPTION:Hygiène sociale, Kanada, 2021 R: Denis Côté
END:VEVENT
END:VCALENDAR