BEGIN:VCALENDAR
VERSION:2.0
PRODID:-//Kino Tuškanac//Filmski programi//HR
BEGIN:VEVENT
UID:123628b704f6053df09ffea735cc6785@kinotuskanac.hr
DTSTAMP:20260420T023456Z
DTSTART:20060329T210000
DTEND:20060329T230000
SUMMARY:Ljubavni glasnik
LOCATION:Kino Tuškanac
DESCRIPTION:The Go-Between, 1970 R: Joseph Losey
END:VEVENT
END:VCALENDAR