BEGIN:VCALENDAR
VERSION:2.0
PRODID:-//Kino Tuškanac//Filmski programi//HR
BEGIN:VEVENT
UID:9bbb94e1c4c6c97e13b1113887173a0d@kinotuskanac.hr
DTSTAMP:20260425T173243Z
DTSTART:20211211T210000
DTEND:20211211T230000
SUMMARY:Kelti
LOCATION:Kino Tuškanac
DESCRIPTION:Srbija, 2021 R: Milica Tomović
END:VEVENT
END:VCALENDAR