BEGIN:VCALENDAR
VERSION:2.0
PRODID:-//Kino Tuškanac//Filmski programi//HR
BEGIN:VEVENT
UID:b6ad8e2c1bb3cc4e6cd5092ddc43154d@kinotuskanac.hr
DTSTAMP:20260420T172003Z
DTSTART:20220121T190000
DTEND:20220121T210000
SUMMARY:Sedam
LOCATION:Kino Tuškanac
DESCRIPTION:Se7en, SAD, 1995 R: David Fincher
END:VEVENT
END:VCALENDAR