BEGIN:VCALENDAR
VERSION:2.0
PRODID:-//Kino Tuškanac//Filmski programi//HR
BEGIN:VEVENT
UID:c1c313dad5bac1fde603963cd27e0ee3@kinotuskanac.hr
DTSTAMP:20260422T215248Z
DTSTART:20220130T190000
DTEND:20220130T210000
SUMMARY:Noć na zemlji
LOCATION:Kino Tuškanac
DESCRIPTION:Night on Earth, Francuska, Japan, Njemačka, SAD, UK, 1991 R: Jim Jarmusch
END:VEVENT
END:VCALENDAR