BEGIN:VCALENDAR
VERSION:2.0
PRODID:-//Kino Tuškanac//Filmski programi//HR
BEGIN:VEVENT
UID:fdba136c75a6a07c7cac71bf02f6543a@kinotuskanac.hr
DTSTAMP:20260423T042610Z
DTSTART:20220131T190000
DTEND:20220131T210000
SUMMARY:Čudnije od raja
LOCATION:Kino Tuškanac
DESCRIPTION:Stranger Than Paradise, SAD, Zapadna Njemačka, 1984 R: Jim Jarmusch
END:VEVENT
END:VCALENDAR