BEGIN:VCALENDAR
VERSION:2.0
PRODID:-//Kino Tuškanac//Filmski programi//HR
BEGIN:VEVENT
UID:6861ac684d8ec1a8eb983869e6129f6b@kinotuskanac.hr
DTSTAMP:20260425T203252Z
DTSTART:20220202T190000
DTEND:20220202T210000
SUMMARY:Mrtav čovjek
LOCATION:Kino Tuškanac
DESCRIPTION:Dead Man, SAD, Njemačka, Japan, 1995 R: Jim Jarmusch
END:VEVENT
END:VCALENDAR