BEGIN:VCALENDAR
VERSION:2.0
PRODID:-//Kino Tuškanac//Filmski programi//HR
BEGIN:VEVENT
UID:1c4beee38f8113d8d4506101e0cd1371@kinotuskanac.hr
DTSTAMP:20260423T113315Z
DTSTART:20220122T170000
DTEND:20220122T190000
SUMMARY:Baksuzno bubanje ili bezumni pornić
LOCATION:Kino Tuškanac
DESCRIPTION:Babardeală cu bucluc sau porno balamuc, Rumunjska, Luksemburg, Češka, Hrvatska, 2021 R: Radu Jude
END:VEVENT
END:VCALENDAR