BEGIN:VCALENDAR
VERSION:2.0
PRODID:-//Kino Tuškanac//Filmski programi//HR
BEGIN:VEVENT
UID:aa24467af5a87abcfa2956f24c498a4e@kinotuskanac.hr
DTSTAMP:20260423T113423Z
DTSTART:20220123T170000
DTEND:20220123T190000
SUMMARY:Baksuzno bubanje ili bezumni pornić
LOCATION:Kino Tuškanac
DESCRIPTION:Babardeală cu bucluc sau porno balamuc, Rumunjska, Luksemburg, Češka, Hrvatska, 2021 R: Radu Jude
END:VEVENT
END:VCALENDAR