BEGIN:VCALENDAR
VERSION:2.0
PRODID:-//Kino Tuškanac//Filmski programi//HR
BEGIN:VEVENT
UID:da330884157e5f185421423a34c558a3@kinotuskanac.hr
DTSTAMP:20260423T005221Z
DTSTART:20220205T190000
DTEND:20220205T210000
SUMMARY:Sicario
LOCATION:Kino Tuškanac
DESCRIPTION:SAD, Meksiko, Hong Kong, 2015 R: Denis Villeneuve
END:VEVENT
END:VCALENDAR