BEGIN:VCALENDAR
VERSION:2.0
PRODID:-//Kino Tuškanac//Filmski programi//HR
BEGIN:VEVENT
UID:3b3aebe801e6c8ecb81a34dc950e26dc@kinotuskanac.hr
DTSTAMP:20260420T133821Z
DTSTART:20220207T190000
DTEND:20220207T210000
SUMMARY:Politehnika
LOCATION:Kino Tuškanac
DESCRIPTION:Polytechnique, Kanada, 2009 R: Denis Villeneuve
END:VEVENT
END:VCALENDAR