BEGIN:VCALENDAR
VERSION:2.0
PRODID:-//Kino Tuškanac//Filmski programi//HR
BEGIN:VEVENT
UID:427ff3e91d79a7b24145007e5131103f@kinotuskanac.hr
DTSTAMP:20260419T142132Z
DTSTART:20220207T210000
DTEND:20220207T230000
SUMMARY:32. kolovoza na Zemlji
LOCATION:Kino Tuškanac
DESCRIPTION:Un 32 août sur terre, Kanada, 1998 R: Denis Villeneuve
END:VEVENT
END:VCALENDAR